Package: APAlyzer Version: 1.14.0 Command: rm -rf APAlyzer.buildbin-libdir && mkdir APAlyzer.buildbin-libdir && /Users/biocbuild/BBS/utils/build-universal.sh APAlyzer_1.14.0.tar.gz /Library/Frameworks/R.framework/Resources/bin/R APAlyzer.buildbin-libdir StartedAt: 2023-10-16 08:58:00 -0400 (Mon, 16 Oct 2023) EndedAt: 2023-10-16 09:00:19 -0400 (Mon, 16 Oct 2023) EllapsedTime: 139.0 seconds RetCode: 0 Status: OK PackageFile: APAlyzer_1.14.0.tgz PackageFileSize: 3.989 MiB