Package: ANF Version: 1.22.0 Command: /home/biocbuild/bbs-3.17-bioc/R/bin/R CMD INSTALL ANF StartedAt: 2023-10-15 15:39:12 -0400 (Sun, 15 Oct 2023) EndedAt: 2023-10-15 15:39:19 -0400 (Sun, 15 Oct 2023) EllapsedTime: 7.1 seconds RetCode: 0 Status: OK