Package: ANF Version: 1.22.0 Command: /home/biocbuild/bbs-3.17-bioc/R/bin/R CMD check --install=check:ANF.install-out.txt --library=/home/biocbuild/bbs-3.17-bioc/R/site-library --timings ANF_1.22.0.tar.gz StartedAt: 2023-10-15 19:10:39 -0400 (Sun, 15 Oct 2023) EndedAt: 2023-10-15 19:15:14 -0400 (Sun, 15 Oct 2023) EllapsedTime: 275.4 seconds RetCode: 1 Status: ERROR CheckDir: ANF.Rcheck Warnings: NA