Package: ANF Version: 1.22.0 Command: /Library/Frameworks/R.framework/Resources/bin/R CMD check --install=check:ANF.install-out.txt --library=/Library/Frameworks/R.framework/Resources/library --no-vignettes --timings ANF_1.22.0.tar.gz StartedAt: 2023-10-15 22:28:42 -0400 (Sun, 15 Oct 2023) EndedAt: 2023-10-15 22:34:22 -0400 (Sun, 15 Oct 2023) EllapsedTime: 339.2 seconds RetCode: 0 Status: OK CheckDir: ANF.Rcheck Warnings: 0