Package: ANF Version: 1.22.0 Command: rm -rf ANF.buildbin-libdir && mkdir ANF.buildbin-libdir && /Users/biocbuild/BBS/utils/build-universal.sh ANF_1.22.0.tar.gz /Library/Frameworks/R.framework/Resources/bin/R ANF.buildbin-libdir StartedAt: 2023-10-16 08:57:26 -0400 (Mon, 16 Oct 2023) EndedAt: 2023-10-16 08:57:52 -0400 (Mon, 16 Oct 2023) EllapsedTime: 26.1 seconds RetCode: 0 Status: OK PackageFile: ANF_1.22.0.tgz PackageFileSize: 250.7 KiB