Package: ANCOMBC Version: 2.2.2 Command: F:\biocbuild\bbs-3.17-bioc\R\bin\R.exe CMD check --no-multiarch --install=check:ANCOMBC.install-out.txt --library=F:\biocbuild\bbs-3.17-bioc\R\library --no-vignettes --timings ANCOMBC_2.2.2.tar.gz StartedAt: 2023-10-15 23:24:23 -0400 (Sun, 15 Oct 2023) EndedAt: 2023-10-15 23:31:56 -0400 (Sun, 15 Oct 2023) EllapsedTime: 453.2 seconds RetCode: 0 Status: OK CheckDir: ANCOMBC.Rcheck Warnings: 0