Package: ANCOMBC Version: 2.2.2 Command: chmod a+r ANCOMBC -R && F:\biocbuild\bbs-3.17-bioc\R\bin\R.exe CMD build --keep-empty-dirs --no-resave-data ANCOMBC StartedAt: 2023-10-15 17:13:38 -0400 (Sun, 15 Oct 2023) EndedAt: 2023-10-15 17:24:03 -0400 (Sun, 15 Oct 2023) EllapsedTime: 625.4 seconds RetCode: 0 Status: OK PackageFile: ANCOMBC_2.2.2.tar.gz PackageFileSize: 753.8 KiB