Package: ANCOMBC Version: 2.2.2 Command: /home/biocbuild/bbs-3.17-bioc/R/bin/R CMD INSTALL ANCOMBC StartedAt: 2023-10-15 15:42:49 -0400 (Sun, 15 Oct 2023) EndedAt: 2023-10-15 15:43:47 -0400 (Sun, 15 Oct 2023) EllapsedTime: 58.0 seconds RetCode: 0 Status: OK