Package: ANCOMBC Version: 2.2.2 Command: /home/biocbuild/bbs-3.17-bioc/R/bin/R CMD build --keep-empty-dirs --no-resave-data ANCOMBC StartedAt: 2023-10-15 15:54:50 -0400 (Sun, 15 Oct 2023) EndedAt: 2023-10-15 16:05:49 -0400 (Sun, 15 Oct 2023) EllapsedTime: 659.1 seconds RetCode: 0 Status: OK PackageFile: ANCOMBC_2.2.2.tar.gz PackageFileSize: 1.019 MiB