Package: ANCOMBC Version: 2.2.2 Command: /Library/Frameworks/R.framework/Resources/bin/R CMD build --keep-empty-dirs --no-resave-data ANCOMBC StartedAt: 2023-10-15 16:41:30 -0400 (Sun, 15 Oct 2023) EndedAt: 2023-10-15 17:13:27 -0400 (Sun, 15 Oct 2023) EllapsedTime: 1917.8 seconds RetCode: 0 Status: OK PackageFile: ANCOMBC_2.2.2.tar.gz PackageFileSize: 1.101 MiB