Package: AMOUNTAIN Version: 1.26.0 Command: F:\biocbuild\bbs-3.17-bioc\R\bin\R.exe CMD check --no-multiarch --install=check:AMOUNTAIN.install-out.txt --library=F:\biocbuild\bbs-3.17-bioc\R\library --no-vignettes --timings AMOUNTAIN_1.26.0.tar.gz StartedAt: 2023-10-15 23:23:56 -0400 (Sun, 15 Oct 2023) EndedAt: 2023-10-15 23:24:21 -0400 (Sun, 15 Oct 2023) EllapsedTime: 25.7 seconds RetCode: 0 Status: OK CheckDir: AMOUNTAIN.Rcheck Warnings: 0