Package: AMOUNTAIN Version: 1.26.0 Command: rm -rf AMOUNTAIN.buildbin-libdir && mkdir AMOUNTAIN.buildbin-libdir && F:\biocbuild\bbs-3.17-bioc\R\bin\R.exe CMD INSTALL --build --library=AMOUNTAIN.buildbin-libdir AMOUNTAIN_1.26.0.tar.gz StartedAt: 2023-10-16 08:24:24 -0400 (Mon, 16 Oct 2023) EndedAt: 2023-10-16 08:24:29 -0400 (Mon, 16 Oct 2023) EllapsedTime: 5.9 seconds RetCode: 0 Status: OK PackageFile: AMOUNTAIN_1.26.0.zip PackageFileSize: 1.156 MiB