Package: AMOUNTAIN Version: 1.26.0 Command: /Library/Frameworks/R.framework/Resources/bin/R CMD INSTALL AMOUNTAIN StartedAt: 2023-10-15 15:04:30 -0400 (Sun, 15 Oct 2023) EndedAt: 2023-10-15 15:04:51 -0400 (Sun, 15 Oct 2023) EllapsedTime: 20.6 seconds RetCode: 0 Status: OK