Package: ALDEx2 Version: 1.32.0 Command: /Library/Frameworks/R.framework/Resources/bin/R CMD INSTALL ALDEx2 StartedAt: 2023-10-15 16:08:35 -0400 (Sun, 15 Oct 2023) EndedAt: 2023-10-15 16:09:46 -0400 (Sun, 15 Oct 2023) EllapsedTime: 71.1 seconds RetCode: 0 Status: OK