Package: ALDEx2 Version: 1.32.0 Command: /Library/Frameworks/R.framework/Resources/bin/R CMD build --keep-empty-dirs --no-resave-data ALDEx2 StartedAt: 2023-10-15 16:40:27 -0400 (Sun, 15 Oct 2023) EndedAt: 2023-10-15 16:42:32 -0400 (Sun, 15 Oct 2023) EllapsedTime: 125.9 seconds RetCode: 0 Status: OK PackageFile: ALDEx2_1.32.0.tar.gz PackageFileSize: 1.026 MiB