Package: AIMS Version: 1.32.0 Command: F:\biocbuild\bbs-3.17-bioc\R\bin\R.exe CMD check --no-multiarch --install=check:AIMS.install-out.txt --library=F:\biocbuild\bbs-3.17-bioc\R\library --no-vignettes --timings AIMS_1.32.0.tar.gz StartedAt: 2023-10-15 23:20:19 -0400 (Sun, 15 Oct 2023) EndedAt: 2023-10-15 23:20:54 -0400 (Sun, 15 Oct 2023) EllapsedTime: 35.2 seconds RetCode: 0 Status: OK CheckDir: AIMS.Rcheck Warnings: 0