Package: AIMS Version: 1.32.0 Command: rm -rf AIMS.buildbin-libdir && mkdir AIMS.buildbin-libdir && F:\biocbuild\bbs-3.17-bioc\R\bin\R.exe CMD INSTALL --build --library=AIMS.buildbin-libdir AIMS_1.32.0.tar.gz StartedAt: 2023-10-16 08:23:40 -0400 (Mon, 16 Oct 2023) EndedAt: 2023-10-16 08:23:49 -0400 (Mon, 16 Oct 2023) EllapsedTime: 8.7 seconds RetCode: 0 Status: OK PackageFile: AIMS_1.32.0.zip PackageFileSize: 504.8 KiB