Package: AIMS Version: 1.32.0 Command: /Library/Frameworks/R.framework/Resources/bin/R CMD check --install=check:AIMS.install-out.txt --library=/Library/Frameworks/R.framework/Resources/library --no-vignettes --timings AIMS_1.32.0.tar.gz StartedAt: 2023-10-15 22:23:14 -0400 (Sun, 15 Oct 2023) EndedAt: 2023-10-15 22:24:22 -0400 (Sun, 15 Oct 2023) EllapsedTime: 67.9 seconds RetCode: 0 Status: OK CheckDir: AIMS.Rcheck Warnings: 0