Package: AIMS Version: 1.32.0 Command: /Library/Frameworks/R.framework/Resources/bin/R CMD build --keep-empty-dirs --no-resave-data AIMS StartedAt: 2023-10-15 16:39:14 -0400 (Sun, 15 Oct 2023) EndedAt: 2023-10-15 16:39:51 -0400 (Sun, 15 Oct 2023) EllapsedTime: 37.0 seconds RetCode: 0 Status: OK PackageFile: AIMS_1.32.0.tar.gz PackageFileSize: 484.3 KiB