git_url: https://git.bioconductor.org/packages/AIMS git_branch: RELEASE_3_17 git_last_commit: 019415a git_last_commit_date: 2023-04-25 10:36:39 -0400 (Tue, 25 Apr 2023) Package: AIMS Version: 1.32.0 Maintainer: Eric R Paquet MaintainerEmail: eric.r.paquet at gmail.com