Package: AHMassBank Version: 1.0.0 Command: /home/biocbuild/bbs-3.17-bioc/R/bin/R CMD INSTALL AHMassBank StartedAt: 2023-10-15 15:50:24 -0400 (Sun, 15 Oct 2023) EndedAt: 2023-10-15 15:51:02 -0400 (Sun, 15 Oct 2023) EllapsedTime: 38.2 seconds RetCode: 0 Status: OK