Package: AHMassBank Version: 1.0.0 Command: /home/biocbuild/bbs-3.17-bioc/R/bin/R CMD build --keep-empty-dirs --no-resave-data AHMassBank StartedAt: 2023-10-15 15:53:28 -0400 (Sun, 15 Oct 2023) EndedAt: 2023-10-15 15:54:19 -0400 (Sun, 15 Oct 2023) EllapsedTime: 51.6 seconds RetCode: 0 Status: OK PackageFile: AHMassBank_1.0.0.tar.gz PackageFileSize: 293.3 KiB