Package: AHMassBank Version: 1.0.0 Command: /Library/Frameworks/R.framework/Resources/bin/R CMD build --keep-empty-dirs --no-resave-data AHMassBank StartedAt: 2023-10-15 16:39:13 -0400 (Sun, 15 Oct 2023) EndedAt: 2023-10-15 16:41:19 -0400 (Sun, 15 Oct 2023) EllapsedTime: 125.9 seconds RetCode: 0 Status: OK PackageFile: AHMassBank_1.0.0.tar.gz PackageFileSize: 293.2 KiB