Package: AHMassBank Version: 1.0.0 Command: rm -rf AHMassBank.buildbin-libdir && mkdir AHMassBank.buildbin-libdir && /Users/biocbuild/BBS/utils/build-universal.sh AHMassBank_1.0.0.tar.gz /Library/Frameworks/R.framework/Resources/bin/R AHMassBank.buildbin-libdir StartedAt: 2023-10-16 08:56:17 -0400 (Mon, 16 Oct 2023) EndedAt: 2023-10-16 08:58:29 -0400 (Mon, 16 Oct 2023) EllapsedTime: 132.0 seconds RetCode: 0 Status: OK PackageFile: AHMassBank_1.0.0.tgz PackageFileSize: 299.8 KiB