Package: AGDEX Version: 1.48.0 Command: chmod a+r AGDEX -R && F:\biocbuild\bbs-3.17-bioc\R\bin\R.exe CMD build --keep-empty-dirs --no-resave-data AGDEX StartedAt: 2023-10-15 17:11:02 -0400 (Sun, 15 Oct 2023) EndedAt: 2023-10-15 17:11:29 -0400 (Sun, 15 Oct 2023) EllapsedTime: 27.1 seconds RetCode: 0 Status: OK PackageFile: AGDEX_1.48.0.tar.gz PackageFileSize: 487.4 KiB