Package: AGDEX Version: 1.48.0 Command: /Library/Frameworks/R.framework/Resources/bin/R CMD check --install=check:AGDEX.install-out.txt --library=/Library/Frameworks/R.framework/Resources/library --no-vignettes --timings AGDEX_1.48.0.tar.gz StartedAt: 2023-10-15 22:22:00 -0400 (Sun, 15 Oct 2023) EndedAt: 2023-10-15 22:24:39 -0400 (Sun, 15 Oct 2023) EllapsedTime: 159.4 seconds RetCode: 0 Status: OK CheckDir: AGDEX.Rcheck Warnings: 0