Package: AGDEX Version: 1.48.0 Command: rm -rf AGDEX.buildbin-libdir && mkdir AGDEX.buildbin-libdir && /Users/biocbuild/BBS/utils/build-universal.sh AGDEX_1.48.0.tar.gz /Library/Frameworks/R.framework/Resources/bin/R AGDEX.buildbin-libdir StartedAt: 2023-10-16 08:56:17 -0400 (Mon, 16 Oct 2023) EndedAt: 2023-10-16 08:57:15 -0400 (Mon, 16 Oct 2023) EllapsedTime: 57.9 seconds RetCode: 0 Status: OK PackageFile: AGDEX_1.48.0.tgz PackageFileSize: 558.1 KiB