Package: ADaCGH2 Version: 2.40.0 Command: F:\biocbuild\bbs-3.17-bioc\R\bin\R.exe CMD check --no-multiarch --install=check:ADaCGH2.install-out.txt --library=F:\biocbuild\bbs-3.17-bioc\R\library --no-vignettes --timings ADaCGH2_2.40.0.tar.gz StartedAt: 2023-10-15 23:16:09 -0400 (Sun, 15 Oct 2023) EndedAt: 2023-10-15 23:20:47 -0400 (Sun, 15 Oct 2023) EllapsedTime: 277.9 seconds RetCode: 0 Status: OK CheckDir: ADaCGH2.Rcheck Warnings: 0