Package: ADaCGH2 Version: 2.40.0 Command: rm -rf ADaCGH2.buildbin-libdir && mkdir ADaCGH2.buildbin-libdir && F:\biocbuild\bbs-3.17-bioc\R\bin\R.exe CMD INSTALL --build --library=ADaCGH2.buildbin-libdir ADaCGH2_2.40.0.tar.gz StartedAt: 2023-10-16 08:23:03 -0400 (Mon, 16 Oct 2023) EndedAt: 2023-10-16 08:23:42 -0400 (Mon, 16 Oct 2023) EllapsedTime: 38.6 seconds RetCode: 0 Status: OK PackageFile: ADaCGH2_2.40.0.zip PackageFileSize: 1.064 MiB