Package: ADImpute Version: 1.10.0 Command: /home/biocbuild/bbs-3.17-bioc/R/bin/R CMD build --keep-empty-dirs --no-resave-data ADImpute StartedAt: 2023-10-15 15:52:56 -0400 (Sun, 15 Oct 2023) EndedAt: 2023-10-15 15:53:22 -0400 (Sun, 15 Oct 2023) EllapsedTime: 25.4 seconds RetCode: 0 Status: OK PackageFile: ADImpute_1.10.0.tar.gz PackageFileSize: 2.117 MiB