Package: ADImpute Version: 1.10.0 Command: rm -rf ADImpute.buildbin-libdir && mkdir ADImpute.buildbin-libdir && /Users/biocbuild/BBS/utils/build-universal.sh ADImpute_1.10.0.tar.gz /Library/Frameworks/R.framework/Resources/bin/R ADImpute.buildbin-libdir StartedAt: 2023-10-16 08:56:17 -0400 (Mon, 16 Oct 2023) EndedAt: 2023-10-16 08:56:34 -0400 (Mon, 16 Oct 2023) EllapsedTime: 17.3 seconds RetCode: 0 Status: OK PackageFile: ADImpute_1.10.0.tgz PackageFileSize: 2.331 MiB