Package: ADAMgui Version: 1.16.0 Command: rm -rf ADAMgui.buildbin-libdir && mkdir ADAMgui.buildbin-libdir && F:\biocbuild\bbs-3.17-bioc\R\bin\R.exe CMD INSTALL --build --library=ADAMgui.buildbin-libdir ADAMgui_1.16.0.tar.gz StartedAt: 2023-10-16 08:23:03 -0400 (Mon, 16 Oct 2023) EndedAt: 2023-10-16 08:23:43 -0400 (Mon, 16 Oct 2023) EllapsedTime: 40.1 seconds RetCode: 0 Status: OK PackageFile: ADAMgui_1.16.0.zip PackageFileSize: 918.7 KiB