Package: ADAMgui Version: 1.16.0 Command: /Library/Frameworks/R.framework/Resources/bin/R CMD check --install=check:ADAMgui.install-out.txt --library=/Library/Frameworks/R.framework/Resources/library --no-vignettes --timings ADAMgui_1.16.0.tar.gz StartedAt: 2023-10-15 22:21:17 -0400 (Sun, 15 Oct 2023) EndedAt: 2023-10-15 22:28:42 -0400 (Sun, 15 Oct 2023) EllapsedTime: 445.9 seconds RetCode: 0 Status: OK CheckDir: ADAMgui.Rcheck Warnings: 0