Package: ADAM Version: 1.16.0 Command: F:\biocbuild\bbs-3.17-bioc\R\bin\R.exe CMD INSTALL ADAM StartedAt: 2023-10-15 16:19:29 -0400 (Sun, 15 Oct 2023) EndedAt: 2023-10-15 16:20:12 -0400 (Sun, 15 Oct 2023) EllapsedTime: 42.3 seconds RetCode: 0 Status: OK