Package: ADAM Version: 1.16.0 Command: chmod a+r ADAM -R && F:\biocbuild\bbs-3.17-bioc\R\bin\R.exe CMD build --keep-empty-dirs --no-resave-data ADAM StartedAt: 2023-10-15 17:09:49 -0400 (Sun, 15 Oct 2023) EndedAt: 2023-10-15 17:10:44 -0400 (Sun, 15 Oct 2023) EllapsedTime: 55.2 seconds RetCode: 0 Status: OK PackageFile: ADAM_1.16.0.tar.gz PackageFileSize: 320.4 KiB