Package: ADAM Version: 1.16.0 Command: rm -rf ADAM.buildbin-libdir && mkdir ADAM.buildbin-libdir && F:\biocbuild\bbs-3.17-bioc\R\bin\R.exe CMD INSTALL --build --library=ADAM.buildbin-libdir ADAM_1.16.0.tar.gz StartedAt: 2023-10-16 08:23:03 -0400 (Mon, 16 Oct 2023) EndedAt: 2023-10-16 08:23:57 -0400 (Mon, 16 Oct 2023) EllapsedTime: 53.2 seconds RetCode: 0 Status: OK PackageFile: ADAM_1.16.0.zip PackageFileSize: 726 KiB