Package: ADAM Version: 1.16.0 Command: /home/biocbuild/bbs-3.17-bioc/R/bin/R CMD build --keep-empty-dirs --no-resave-data ADAM StartedAt: 2023-10-15 15:52:56 -0400 (Sun, 15 Oct 2023) EndedAt: 2023-10-15 15:53:42 -0400 (Sun, 15 Oct 2023) EllapsedTime: 45.8 seconds RetCode: 0 Status: OK PackageFile: ADAM_1.16.0.tar.gz PackageFileSize: 320.1 KiB