Package: ADAM Version: 1.16.0 Command: /Library/Frameworks/R.framework/Resources/bin/R CMD INSTALL ADAM StartedAt: 2023-10-15 15:44:28 -0400 (Sun, 15 Oct 2023) EndedAt: 2023-10-15 15:46:23 -0400 (Sun, 15 Oct 2023) EllapsedTime: 115.0 seconds RetCode: 0 Status: OK