Package: ADAM Version: 1.16.0 Command: /Library/Frameworks/R.framework/Resources/bin/R CMD check --install=check:ADAM.install-out.txt --library=/Library/Frameworks/R.framework/Resources/library --no-vignettes --timings ADAM_1.16.0.tar.gz StartedAt: 2023-10-15 22:21:17 -0400 (Sun, 15 Oct 2023) EndedAt: 2023-10-15 22:28:44 -0400 (Sun, 15 Oct 2023) EllapsedTime: 448.0 seconds RetCode: 0 Status: OK CheckDir: ADAM.Rcheck Warnings: 0