Package: ADAM Version: 1.16.0 Command: rm -rf ADAM.buildbin-libdir && mkdir ADAM.buildbin-libdir && /Users/biocbuild/BBS/utils/build-universal.sh ADAM_1.16.0.tar.gz /Library/Frameworks/R.framework/Resources/bin/R ADAM.buildbin-libdir StartedAt: 2023-10-16 08:56:17 -0400 (Mon, 16 Oct 2023) EndedAt: 2023-10-16 08:58:20 -0400 (Mon, 16 Oct 2023) EllapsedTime: 123.0 seconds RetCode: 0 Status: OK PackageFile: ADAM_1.16.0.tgz PackageFileSize: 396.1 KiB