Package: ACE Version: 1.18.0 Command: F:\biocbuild\bbs-3.17-bioc\R\bin\R.exe CMD INSTALL ACE StartedAt: 2023-10-15 16:16:55 -0400 (Sun, 15 Oct 2023) EndedAt: 2023-10-15 16:17:20 -0400 (Sun, 15 Oct 2023) EllapsedTime: 25.1 seconds RetCode: 0 Status: OK