Package: ACE Version: 1.18.0 Command: chmod a+r ACE -R && F:\biocbuild\bbs-3.17-bioc\R\bin\R.exe CMD build --keep-empty-dirs --no-resave-data ACE StartedAt: 2023-10-15 17:09:44 -0400 (Sun, 15 Oct 2023) EndedAt: 2023-10-15 17:10:43 -0400 (Sun, 15 Oct 2023) EllapsedTime: 59.2 seconds RetCode: 0 Status: OK PackageFile: ACE_1.18.0.tar.gz PackageFileSize: 835.6 KiB