git_url: https://git.bioconductor.org/packages/ACE git_branch: RELEASE_3_17 git_last_commit: 4c6870f git_last_commit_date: 2023-04-25 11:03:07 -0400 (Tue, 25 Apr 2023) Package: ACE Version: 1.18.0 Maintainer: Jos B Poell MaintainerEmail: j.poell at amsterdamumc.nl