Package: ABSSeq Version: 1.54.0 Command: /Library/Frameworks/R.framework/Resources/bin/R CMD INSTALL ABSSeq StartedAt: 2023-10-15 15:08:34 -0400 (Sun, 15 Oct 2023) EndedAt: 2023-10-15 15:09:21 -0400 (Sun, 15 Oct 2023) EllapsedTime: 46.7 seconds RetCode: 0 Status: OK