Package: ABSSeq Version: 1.54.0 Command: /Library/Frameworks/R.framework/Resources/bin/R CMD check --install=check:ABSSeq.install-out.txt --library=/Library/Frameworks/R.framework/Resources/library --no-vignettes --timings ABSSeq_1.54.0.tar.gz StartedAt: 2023-10-15 22:21:16 -0400 (Sun, 15 Oct 2023) EndedAt: 2023-10-15 22:26:16 -0400 (Sun, 15 Oct 2023) EllapsedTime: 299.9 seconds RetCode: 0 Status: OK CheckDir: ABSSeq.Rcheck Warnings: 0