Package: csawUsersGuide Version: 1.14.0 Command: F:\biocbuild\bbs-3.16-bioc\R\bin\R.exe CMD INSTALL csawUsersGuide StartedAt: 2023-04-11 11:00:47 -0400 (Tue, 11 Apr 2023) EndedAt: 2023-04-11 11:00:52 -0400 (Tue, 11 Apr 2023) EllapsedTime: 5.3 seconds RetCode: 0 Status: OK