Package: yeastNagalakshmi Version: 1.34.0 Command: /home/biocbuild/bbs-3.16-bioc/R/bin/R CMD check --install=check:yeastNagalakshmi.install-out.txt --library=/home/biocbuild/bbs-3.16-bioc/R/site-library --timings yeastNagalakshmi_1.34.0.tar.gz StartedAt: 2023-04-11 12:29:12 -0400 (Tue, 11 Apr 2023) EndedAt: 2023-04-11 12:29:21 -0400 (Tue, 11 Apr 2023) EllapsedTime: 9.0 seconds RetCode: 0 Status: OK CheckDir: yeastNagalakshmi.Rcheck Warnings: 0