git_url: https://git.bioconductor.org/packages/spqnData git_branch: RELEASE_3_16 git_last_commit: 8cfb9f8 git_last_commit_date: 2022-11-01 11:23:16 -0400 (Tue, 01 Nov 2022) Package: spqnData Version: 1.10.0 Maintainer: Yi Wang MaintainerEmail: yiwangthu5 at gmail.com