git_url: https://git.bioconductor.org/packages/mosaicsExample git_branch: RELEASE_3_16 git_last_commit: 07b4825 git_last_commit_date: 2022-11-01 10:46:00 -0400 (Tue, 01 Nov 2022) Package: mosaicsExample Version: 1.36.0 Maintainer: Dongjun Chung MaintainerEmail: dongjun.chung at gmail.com