git_url: https://git.bioconductor.org/packages/genomationData git_branch: RELEASE_3_16 git_last_commit: e5004bf git_last_commit_date: 2022-11-01 11:03:31 -0400 (Tue, 01 Nov 2022) Package: genomationData Version: 1.30.0 Maintainer: Vedran Franke MaintainerEmail: vedran.franke at gmail.com